BEGIN:VCALENDAR
VERSION:2.0
PRODID:-//LINMED - ECPv6.15.11//NONSGML v1.0//EN
CALSCALE:GREGORIAN
METHOD:PUBLISH
X-WR-CALNAME:LINMED
X-ORIGINAL-URL:https://linmed.com.pl
X-WR-CALDESC:Wydarzenia dla LINMED
REFRESH-INTERVAL;VALUE=DURATION:PT1H
X-Robots-Tag:noindex
X-PUBLISHED-TTL:PT1H
BEGIN:VTIMEZONE
TZID:Europe/Warsaw
BEGIN:DAYLIGHT
TZOFFSETFROM:+0100
TZOFFSETTO:+0200
TZNAME:CEST
DTSTART:20250330T010000
END:DAYLIGHT
BEGIN:STANDARD
TZOFFSETFROM:+0200
TZOFFSETTO:+0100
TZNAME:CET
DTSTART:20251026T010000
END:STANDARD
BEGIN:DAYLIGHT
TZOFFSETFROM:+0100
TZOFFSETTO:+0200
TZNAME:CEST
DTSTART:20260329T010000
END:DAYLIGHT
BEGIN:STANDARD
TZOFFSETFROM:+0200
TZOFFSETTO:+0100
TZNAME:CET
DTSTART:20261025T010000
END:STANDARD
BEGIN:DAYLIGHT
TZOFFSETFROM:+0100
TZOFFSETTO:+0200
TZNAME:CEST
DTSTART:20270328T010000
END:DAYLIGHT
BEGIN:STANDARD
TZOFFSETFROM:+0200
TZOFFSETTO:+0100
TZNAME:CET
DTSTART:20271031T010000
END:STANDARD
END:VTIMEZONE
BEGIN:VEVENT
DTSTART;TZID=Europe/Warsaw:20260510T090000
DTEND;TZID=Europe/Warsaw:20260510T170000
DTSTAMP:20260422T155653
CREATED:20250523T092456Z
LAST-MODIFIED:20260422T080937Z
UID:3978-1778403600-1778432400@linmed.com.pl
SUMMARY:Re-certyfikacja KPP | 10 maja 2026 r. | Krempna\, pow. jasielski
DESCRIPTION:1-dniowa re-certyfikacja KPP!\nW kursie re-certyfikacyjnym i egzaminie mogą uczestniczyć osoby posiadające pełną zdolność do czynności prawnych (ukończone 18 lat)\, zgodnie z Ustawą z dn. 8 września 2006 r. o Państwowym Ratownictwie Medycznym oraz posiadające ważne zaświadczenie Kwalifikowanej Pierwszej Pomocy. \nCo Ci daje re-certyfikacja KPP?\n\nOdświeżenie procedur na temat postępowania w czasie akcji ratowniczych\nUzyskanie zaświadczenia na kolejne 3 lata\nAktualizację uprawnień\nZwiększenie wiedzy medycznej\, zwłaszcza w zakresie procedur pierwszej pomocy.\nUmiejętność wykonywania resuscytacji krążeniowo-oddechowej (RKO).\nRozpoznawanie zagrożeń dla życia.\nZdobycie pewności siebie w udzielaniu pomocy oraz uzyskanie certyfikatu potwierdzającego kwalifikacje.\n\nKadra oraz program są weryfikowane na podstawie stosownych aktów prawnych. Re-certyfikacja kończy się egzaminem państwowym z zakresu wiedzy i umiejętności objętych programem oraz wydaniem zaświadczenia o nadaniu tytułu Ratownika (ważne 3 lata). \nPrzypominamy o promocji dla powracających kursantów!\n\nKażda kolejna re-certyfikacja zrobiona z nami jest tańsza o 10%!\n\n Pamiętaj! Aby przystąpić do re-certyfikacji potrzebujesz:\n\nZaświadczenia o ukończonym kursie KPP\nZaświadczenia o przynależności do jednej z jednostek:\n\nOSP / OSP KSRG\nWOPR\, GOPR\, TOPR\nWOT\, Policja\nInne stowarzyszenie ratownicze wspierające PRM\n\n\n\n\n\n\nDla wygody i komfortu naszych kursantów wprowadziliśmy możliwość płatności ratalnej (uwaga\, rozłożenie rat przy rejestracji telefonicznej). \nWięcej informacji udzieli Państwu nasz Koordynator ds. Szkoleń KPP:\nAnia tel.: 531 112 741 \nPROGRAM PARTNERSKI!!!\nZa każdą poleconą osobę otrzymasz 3% rabatu od ceny szkolenia.
URL:https://linmed.com.pl/event/re-certyfikacja-kpp-10-maja-2026-r-krempna/
LOCATION:OSP KSRG Krempna\, Krempna 37\, Krempna\, podkarpackie\, 38-232\, Poland
CATEGORIES:KPP
ATTACH;FMTTYPE=image/png:https://linmed.com.pl/wp-content/uploads/2021/04/Zrzut-ekranu-2021-04-22-122539.png
ORGANIZER;CN="LINMED Handlowy Sp. z o.o.":MAILTO:szkolenia@linmed.com.pl
END:VEVENT
END:VCALENDAR